BEGIN:VCALENDAR
VERSION:2.0
PRODID:-//ChamberMaster//Event Calendar 2.0//EN
METHOD:PUBLISH
X-PUBLISHED-TTL:P3D
REFRESH-INTERVAL:P3D
CALSCALE:GREGORIAN
BEGIN:VEVENT
DTSTART:20130112T173000Z
DTEND:20130112T180000Z
X-MICROSOFT-CDO-ALLDAYEVENT:FALSE
SUMMARY:Ribbon Cutting - Lucky Dogs
DESCRIPTION:Dogs and owners! Come to the ribbon cutting for Lucky Dogs and help us welcome this new business to our community.
X-ALT-DESC;FMTTYPE=text/html:Dogs and owners! Come to the ribbon cutting for Lucky Dogs and help us welcome this new business to our community.
LOCATION:270 Madison Square Drive\, Madisonville\, KY
UID:e.1578.20
SEQUENCE:3
DTSTAMP:20260424T113134Z
URL:https://business.hopkinschamber.com/events/details/ribbon-cutting-lucky-dogs-01-12-2013-20
END:VEVENT

END:VCALENDAR
