BEGIN:VCALENDAR
VERSION:2.0
PRODID:-//ChamberMaster//Event Calendar 2.0//EN
METHOD:PUBLISH
X-PUBLISHED-TTL:P3D
REFRESH-INTERVAL:P3D
CALSCALE:GREGORIAN
BEGIN:VEVENT
DTSTART:20121210T173000Z
DTEND:20121210T180000Z
X-MICROSOFT-CDO-ALLDAYEVENT:FALSE
SUMMARY:Ribbon Cutting - Little Caesar's Pizza
DESCRIPTION:Help us welcome Little Caesar's Pizza to the local business community!
X-ALT-DESC;FMTTYPE=text/html:Help us welcome Little Caesar&#39\;s Pizza to the local business community!
LOCATION:1030 North Main Street\, Madisonville
UID:e.1578.17
SEQUENCE:3
DTSTAMP:20260424T141219Z
URL:https://business.hopkinschamber.com/events/details/ribbon-cutting-little-caesar-s-pizza-12-10-2012-17
END:VEVENT

END:VCALENDAR
