BEGIN:VCALENDAR
VERSION:2.0
PRODID:-//ChamberMaster//Event Calendar 2.0//EN
METHOD:PUBLISH
X-PUBLISHED-TTL:P3D
REFRESH-INTERVAL:P3D
CALSCALE:GREGORIAN
BEGIN:VEVENT
DTSTART:20140813T130000Z
DTEND:20140813T133000Z
X-MICROSOFT-CDO-ALLDAYEVENT:FALSE
SUMMARY:Ribbon Cutting @ Kroger
DESCRIPTION:Join us as we celebrate the recent renovation of the Madisonville Kroger supermarket!
X-ALT-DESC;FMTTYPE=text/html:Join us as we celebrate the recent renovation of the Madisonville Kroger supermarket!
LOCATION:540 Island Ford Road\, Madisonville
UID:e.1578.451
SEQUENCE:3
DTSTAMP:20260423T092642Z
URL:https://business.hopkinschamber.com/events/details/ribbon-cutting-kroger-08-13-2014-451
END:VEVENT

END:VCALENDAR
