BEGIN:VCALENDAR
VERSION:2.0
PRODID:-//ChamberMaster//Event Calendar 2.0//EN
METHOD:PUBLISH
X-PUBLISHED-TTL:P3D
REFRESH-INTERVAL:P3D
CALSCALE:GREGORIAN
BEGIN:VEVENT
DTSTART:20150512T163000Z
DTEND:20150512T170000Z
X-MICROSOFT-CDO-ALLDAYEVENT:FALSE
SUMMARY:Ribbon Cutting @ Kickin' Kafe
DESCRIPTION:Kickin' Kafe is celebrating new ownership AND Chamber membership. Join us!
X-ALT-DESC;FMTTYPE=text/html:Kickin&#39\; Kafe is celebrating new ownership AND Chamber membership. Join us!
LOCATION:850 S. Main\, Madisonville
UID:e.1578.509
SEQUENCE:3
DTSTAMP:20260421T110634Z
URL:https://business.hopkinschamber.com/events/details/ribbon-cutting-kickin-kafe-05-12-2015-509
END:VEVENT

END:VCALENDAR
