BEGIN:VCALENDAR
VERSION:2.0
PRODID:-//ChamberMaster//Event Calendar 2.0//EN
METHOD:PUBLISH
X-PUBLISHED-TTL:P3D
REFRESH-INTERVAL:P3D
CALSCALE:GREGORIAN
BEGIN:VEVENT
DTSTART:20150813T163000Z
DTEND:20150813T170000Z
X-MICROSOFT-CDO-ALLDAYEVENT:FALSE
SUMMARY:Ribbon Cutting @ House of Style Salon & Day Spa
DESCRIPTION:Ribbon Cutting @ House of Style Salon & Day Spa
X-ALT-DESC;FMTTYPE=text/html:Ribbon Cutting @ House of Style Salon &amp\; Day Spa
LOCATION:117 South Main St.
UID:e.1578.529
SEQUENCE:3
DTSTAMP:20260425T001009Z
URL:https://business.hopkinschamber.com/events/details/ribbon-cutting-house-of-style-salon-day-spa-08-13-2015-529
END:VEVENT

END:VCALENDAR
