BEGIN:VCALENDAR
VERSION:2.0
PRODID:-//ChamberMaster//Event Calendar 2.0//EN
METHOD:PUBLISH
X-PUBLISHED-TTL:P3D
REFRESH-INTERVAL:P3D
CALSCALE:GREGORIAN
BEGIN:VEVENT
DTSTART:20130328T163000Z
DTEND:20130328T170000Z
X-MICROSOFT-CDO-ALLDAYEVENT:FALSE
SUMMARY:Ribbon Cutting-Hopkins County Stone
DESCRIPTION:Help us welcome new member and new business Hopkins County Stone to our area!
X-ALT-DESC;FMTTYPE=text/html:Help us welcome new member and new business Hopkins County Stone to our area!
LOCATION:949 West Noel Ave.\, Madisonville
UID:e.1578.41
SEQUENCE:3
DTSTAMP:20260424T085317Z
URL:https://business.hopkinschamber.com/events/details/ribbon-cutting-hopkins-county-stone-03-28-2013-41
END:VEVENT

END:VCALENDAR
