BEGIN:VCALENDAR
VERSION:2.0
PRODID:-//ChamberMaster//Event Calendar 2.0//EN
METHOD:PUBLISH
X-PUBLISHED-TTL:P3D
REFRESH-INTERVAL:P3D
CALSCALE:GREGORIAN
BEGIN:VEVENT
DTSTART:20250613T170000Z
DTEND:20250613T173000Z
X-MICROSOFT-CDO-ALLDAYEVENT:FALSE
SUMMARY:Ribbon Cutting - Hopkins County Sportsmen and Sportswomen
DESCRIPTION:Join us for the ribbon cutting of Hopkins County Sportsmen and Sportswomen Club!
X-ALT-DESC;FMTTYPE=text/html:Join us for the ribbon cutting of Hopkins County Sportsmen and Sportswomen Club!
LOCATION:Chamber Office 15 E Center St Madisonville KY 42431
UID:e.1578.6044
SEQUENCE:3
DTSTAMP:20260419T171102Z
URL:https://business.hopkinschamber.com/events/details/ribbon-cutting-hopkins-county-sportsmen-and-sportswomen-6044
END:VEVENT

END:VCALENDAR
