BEGIN:VCALENDAR
VERSION:2.0
PRODID:-//ChamberMaster//Event Calendar 2.0//EN
METHOD:PUBLISH
X-PUBLISHED-TTL:P3D
REFRESH-INTERVAL:P3D
CALSCALE:GREGORIAN
BEGIN:VEVENT
DTSTART:20160114T180000Z
DTEND:20160114T183000Z
X-MICROSOFT-CDO-ALLDAYEVENT:FALSE
SUMMARY:Ribbon Cutting - Health First Community Health Center
DESCRIPTION:Join us for the grand opening and ribbon cutting for Health First Community Health Center.
X-ALT-DESC;FMTTYPE=text/html:Join us for the grand opening and ribbon cutting for Health First Community Health Center.
LOCATION:107 E. Main\, Earlington
UID:e.1578.561
SEQUENCE:3
DTSTAMP:20260422T093404Z
URL:https://business.hopkinschamber.com/events/details/ribbon-cutting-health-first-community-health-center-01-14-2016-561
END:VEVENT

END:VCALENDAR
