BEGIN:VCALENDAR
VERSION:2.0
PRODID:-//ChamberMaster//Event Calendar 2.0//EN
METHOD:PUBLISH
X-PUBLISHED-TTL:P3D
REFRESH-INTERVAL:P3D
CALSCALE:GREGORIAN
BEGIN:VEVENT
DTSTART:20130701T163000Z
DTEND:20130701T170000Z
X-MICROSOFT-CDO-ALLDAYEVENT:FALSE
SUMMARY:Ribbon Cutting @ Happy's Equipment
DESCRIPTION:Join us for a ribbon cutting to welcome Happy's Equipment LLC to the local business community.
X-ALT-DESC;FMTTYPE=text/html:Join us for a ribbon cutting to welcome Happy&#39\;s Equipment LLC to the local business community.
LOCATION:56 S. Main St.\, Madisonville
UID:e.1578.65
SEQUENCE:3
DTSTAMP:20260424T035206Z
URL:https://business.hopkinschamber.com/events/details/ribbon-cutting-happy-s-equipment-07-01-2013-65
END:VEVENT

END:VCALENDAR
