BEGIN:VCALENDAR
VERSION:2.0
PRODID:-//ChamberMaster//Event Calendar 2.0//EN
METHOD:PUBLISH
X-PUBLISHED-TTL:P3D
REFRESH-INTERVAL:P3D
CALSCALE:GREGORIAN
BEGIN:VEVENT
DTSTART:20130214T173000Z
DTEND:20130214T180000Z
X-MICROSOFT-CDO-ALLDAYEVENT:FALSE
SUMMARY:Ribbon Cutting - Habitat for Humanity ReStore
DESCRIPTION:Join us as we help Habitat for Humanity of Hopkins County celebrate the remodel of the Habitat ReStore.
X-ALT-DESC;FMTTYPE=text/html:Join us as we help Habitat for Humanity of Hopkins County celebrate the remodel of the Habitat ReStore.
LOCATION:43 South Daves St.\, Madisonville
UID:e.1578.25
SEQUENCE:3
DTSTAMP:20260424T101643Z
URL:https://business.hopkinschamber.com/events/details/ribbon-cutting-habitat-for-humanity-restore-02-14-2013-25
END:VEVENT

END:VCALENDAR
