BEGIN:VCALENDAR
VERSION:2.0
PRODID:-//ChamberMaster//Event Calendar 2.0//EN
METHOD:PUBLISH
X-PUBLISHED-TTL:P3D
REFRESH-INTERVAL:P3D
CALSCALE:GREGORIAN
BEGIN:VEVENT
DTSTART:20150608T163000Z
DTEND:20150608T170000Z
X-MICROSOFT-CDO-ALLDAYEVENT:FALSE
SUMMARY:Ribbon Cutting/Grand Opening at new location of Studio-One Massage
DESCRIPTION:Grand Opening and Ribbon Cutting of Studio-One Massage at their new location.
X-ALT-DESC;FMTTYPE=text/html:Grand Opening and Ribbon Cutting of Studio-One Massage at their new location.
LOCATION:50 Pritchett Avenue\, Suite E in Madisonville.
UID:e.1578.524
SEQUENCE:3
DTSTAMP:20260425T030307Z
URL:https://business.hopkinschamber.com/events/details/ribbon-cutting-grand-opening-at-new-location-of-studio-one-massage-06-08-2015-524
END:VEVENT

END:VCALENDAR
