BEGIN:VCALENDAR
VERSION:2.0
PRODID:-//ChamberMaster//Event Calendar 2.0//EN
METHOD:PUBLISH
X-PUBLISHED-TTL:P3D
REFRESH-INTERVAL:P3D
CALSCALE:GREGORIAN
BEGIN:VEVENT
DTSTART:20200303T150000Z
DTEND:20200303T160000Z
X-MICROSOFT-CDO-ALLDAYEVENT:FALSE
SUMMARY:Ribbon Cutting - Gordman's
DESCRIPTION:
X-ALT-DESC;FMTTYPE=text/html:
LOCATION:Parkway Plaza Mall
UID:e.1578.3829
SEQUENCE:3
DTSTAMP:20260421T225433Z
URL:https://business.hopkinschamber.com/events/details/ribbon-cutting-gordman-s-3829
END:VEVENT

END:VCALENDAR
