BEGIN:VCALENDAR
VERSION:2.0
PRODID:-//ChamberMaster//Event Calendar 2.0//EN
METHOD:PUBLISH
X-PUBLISHED-TTL:P3D
REFRESH-INTERVAL:P3D
CALSCALE:GREGORIAN
BEGIN:VEVENT
DTSTART:20131105T170000Z
DTEND:20131105T173000Z
X-MICROSOFT-CDO-ALLDAYEVENT:FALSE
SUMMARY:Ribbon Cutting for new Hopkins Co. Public Works Building
DESCRIPTION:
X-ALT-DESC;FMTTYPE=text/html:&nbsp\;&nbsp\;&nbsp\;&nbsp\;
LOCATION:On Laffoon Trail near the Hopkins County Jail
UID:e.1578.191
SEQUENCE:3
DTSTAMP:20260423T223724Z
URL:https://business.hopkinschamber.com/events/details/ribbon-cutting-for-new-hopkins-co-public-works-building-11-05-2013-191
END:VEVENT

END:VCALENDAR
