BEGIN:VCALENDAR
VERSION:2.0
PRODID:-//ChamberMaster//Event Calendar 2.0//EN
METHOD:PUBLISH
X-PUBLISHED-TTL:P3D
REFRESH-INTERVAL:P3D
CALSCALE:GREGORIAN
BEGIN:VEVENT
DTSTART:20160128T180000Z
DTEND:20160128T183000Z
X-MICROSOFT-CDO-ALLDAYEVENT:FALSE
SUMMARY:Ribbon Cutting for Hopkins County-Madisonville Public Library
DESCRIPTION:Ribbon Cutting & Grand Opening for Hopkins County Madisonville Public Library
X-ALT-DESC;FMTTYPE=text/html:Ribbon Cutting &amp\; Grand Opening for Hopkins County Madisonville Public Library
LOCATION:455 Madison Square Drive
UID:e.1578.565
SEQUENCE:3
DTSTAMP:20260424T093549Z
URL:https://business.hopkinschamber.com/events/details/ribbon-cutting-for-hopkins-county-madisonville-public-library-01-28-2016-565
END:VEVENT

END:VCALENDAR
