BEGIN:VCALENDAR
VERSION:2.0
PRODID:-//ChamberMaster//Event Calendar 2.0//EN
METHOD:PUBLISH
X-PUBLISHED-TTL:P3D
REFRESH-INTERVAL:P3D
CALSCALE:GREGORIAN
BEGIN:VEVENT
DTSTART:20130823T163000Z
DTEND:20130823T170000Z
X-MICROSOFT-CDO-ALLDAYEVENT:FALSE
SUMMARY:Ribbon Cutting for GetSetGo
DESCRIPTION:Help us welcome GetSetGo Wireless Internet service to Hopkins County
X-ALT-DESC;FMTTYPE=text/html:Help us welcome GetSetGo Wireless Internet service to Hopkins County&nbsp\;&nbsp\;&nbsp\;&nbsp\;
LOCATION:Cabinets by Design\, 30 Bassett Ave.\, Madisonville
UID:e.1578.86
SEQUENCE:3
DTSTAMP:20260420T015735Z
URL:https://business.hopkinschamber.com/events/details/ribbon-cutting-for-getsetgo-08-23-2013-86
END:VEVENT

END:VCALENDAR
