BEGIN:VCALENDAR
VERSION:2.0
PRODID:-//ChamberMaster//Event Calendar 2.0//EN
METHOD:PUBLISH
X-PUBLISHED-TTL:P3D
REFRESH-INTERVAL:P3D
CALSCALE:GREGORIAN
BEGIN:VEVENT
DTSTART:20161021T163000Z
DTEND:20161021T173000Z
X-MICROSOFT-CDO-ALLDAYEVENT:FALSE
SUMMARY:Ribbon Cutting for C Plant Federal Credit Union
DESCRIPTION:Ribbon Cutting/Grand Opening Event
X-ALT-DESC;FMTTYPE=text/html:Ribbon Cutting/Grand Opening Event
LOCATION:182 Madison Square Drive Madisonville\, KY 42431
UID:e.1578.606
SEQUENCE:3
DTSTAMP:20260421T213705Z
URL:https://business.hopkinschamber.com/events/details/ribbon-cutting-for-c-plant-federal-credit-union-606
END:VEVENT

END:VCALENDAR
