BEGIN:VCALENDAR
VERSION:2.0
PRODID:-//ChamberMaster//Event Calendar 2.0//EN
METHOD:PUBLISH
X-PUBLISHED-TTL:P3D
REFRESH-INTERVAL:P3D
CALSCALE:GREGORIAN
BEGIN:VEVENT
DTSTART:20150615T163000Z
DTEND:20150615T170000Z
X-MICROSOFT-CDO-ALLDAYEVENT:FALSE
SUMMARY:Ribbon Cutting @ Flax & Wool
DESCRIPTION:Ribbon Cutting.  Public is invited.
X-ALT-DESC;FMTTYPE=text/html:Ribbon Cutting.&nbsp\; Public is invited.
LOCATION:Flax & Wool located at 13 Sugg Street
UID:e.1578.523
SEQUENCE:3
DTSTAMP:20260425T023619Z
URL:https://business.hopkinschamber.com/events/details/ribbon-cutting-flax-wool-06-15-2015-523
END:VEVENT

END:VCALENDAR
