BEGIN:VCALENDAR
VERSION:2.0
PRODID:-//ChamberMaster//Event Calendar 2.0//EN
METHOD:PUBLISH
X-PUBLISHED-TTL:P3D
REFRESH-INTERVAL:P3D
CALSCALE:GREGORIAN
BEGIN:VEVENT
DTSTART:20130829T163000Z
DTEND:20130829T170000Z
X-MICROSOFT-CDO-ALLDAYEVENT:FALSE
SUMMARY:Ribbon Cutting - First United Bank northside
DESCRIPTION:First United Bank is celebrating their newly renovated northside location!
X-ALT-DESC;FMTTYPE=text/html:First United Bank is celebrating their newly renovated northside location!
LOCATION:1080 North Main\, Madisonville
UID:e.1578.75
SEQUENCE:3
DTSTAMP:20260424T021221Z
URL:https://business.hopkinschamber.com/events/details/ribbon-cutting-first-united-bank-northside-08-29-2013-75
END:VEVENT

END:VCALENDAR
