BEGIN:VCALENDAR
VERSION:2.0
PRODID:-//ChamberMaster//Event Calendar 2.0//EN
METHOD:PUBLISH
X-PUBLISHED-TTL:P3D
REFRESH-INTERVAL:P3D
CALSCALE:GREGORIAN
BEGIN:VEVENT
DTSTART:20141209T173000Z
DTEND:20141209T180000Z
X-MICROSOFT-CDO-ALLDAYEVENT:FALSE
SUMMARY:Ribbon Cutting: Edward Jones-Bill Young office
DESCRIPTION:Join us as we celebrate the new location for Edward Jones-Bill Young!
X-ALT-DESC;FMTTYPE=text/html:Join us as we celebrate the new location for Edward Jones-Bill Young!&nbsp\;&nbsp\;&nbsp\;
LOCATION:235 Madison Square Drive\, Madisonville
UID:e.1578.479
SEQUENCE:3
DTSTAMP:20260423T032500Z
URL:https://business.hopkinschamber.com/events/details/ribbon-cutting-edward-jones-bill-young-office-12-09-2014-479
END:VEVENT

END:VCALENDAR
