BEGIN:VCALENDAR
VERSION:2.0
PRODID:-//ChamberMaster//Event Calendar 2.0//EN
METHOD:PUBLISH
X-PUBLISHED-TTL:P3D
REFRESH-INTERVAL:P3D
CALSCALE:GREGORIAN
BEGIN:VEVENT
DTSTART:20191126T213000Z
DTEND:20191126T220000Z
X-MICROSOFT-CDO-ALLDAYEVENT:FALSE
SUMMARY:Ribbon Cutting: Dempsey Street Baking Company
DESCRIPTION:Join us Nov. 26th at 3:30pm as we celebrate with Dempsey Street Baking Co. as one of our newest members to join the #ChamberFamily. Trust us this ribbon cutting is going to be "SWEET!"
X-ALT-DESC;FMTTYPE=text/html:<span style="color: rgb(29\, 33\, 41)\; font-family: Helvetica\, Arial\, sans-serif\; font-size: 14px\; white-space: pre-wrap\;">Join us Nov. 26th at 3:30pm as we celebrate with Dempsey Street Baking Co. as one of our newest members to join the </span><a href="https://www.facebook.com/hashtag/chamberfamily" style="color: rgb(56\, 88\, 152)\; cursor: pointer\; text-decoration-line: none\; font-family: Helvetica\, Arial\, sans-serif\; font-size: 14px\; white-space: pre-wrap\;" target="_blank">#ChamberFamily</a><span style="color: rgb(29\, 33\, 41)\; font-family: Helvetica\, Arial\, sans-serif\; font-size: 14px\; white-space: pre-wrap\;">. Trust us this ribbon cutting is going to be &quot\;SWEET!&quot\; </span>
LOCATION:19 Dempsey St. Madisonville\, Ky 42431
UID:e.1578.2304
SEQUENCE:3
DTSTAMP:20260421T174611Z
URL:https://business.hopkinschamber.com/events/details/ribbon-cutting-dempsey-street-baking-company-2304
END:VEVENT

END:VCALENDAR
