BEGIN:VCALENDAR
VERSION:2.0
PRODID:-//ChamberMaster//Event Calendar 2.0//EN
METHOD:PUBLISH
X-PUBLISHED-TTL:P3D
REFRESH-INTERVAL:P3D
CALSCALE:GREGORIAN
BEGIN:VEVENT
DTSTART:20121217T173000Z
DTEND:20121217T180000Z
X-MICROSOFT-CDO-ALLDAYEVENT:FALSE
SUMMARY:Ribbon Cutting - Cornerstone Family Health
DESCRIPTION:Join us as we welcome Cornerstone Family Health to the local business community.
X-ALT-DESC;FMTTYPE=text/html:Join us as we welcome Cornerstone Family Health to the local business community.
LOCATION:343 East Center St.\, Madisonville\, KY
UID:e.1578.19
SEQUENCE:3
DTSTAMP:20260424T125743Z
URL:https://business.hopkinschamber.com/events/details/ribbon-cutting-cornerstone-family-health-12-17-2012-19
END:VEVENT

END:VCALENDAR
