BEGIN:VCALENDAR
VERSION:2.0
PRODID:-//ChamberMaster//Event Calendar 2.0//EN
METHOD:PUBLISH
X-PUBLISHED-TTL:P3D
REFRESH-INTERVAL:P3D
CALSCALE:GREGORIAN
BEGIN:VEVENT
DTSTART:20160908T170000Z
DTEND:20160908T180000Z
X-MICROSOFT-CDO-ALLDAYEVENT:FALSE
SUMMARY:Ribbon Cutting Coal Museum
DESCRIPTION:Ribbon Cutting Grand Opening
X-ALT-DESC;FMTTYPE=text/html:Ribbon Cutting Grand Opening
LOCATION:3rd Floor - Old Courhouse
UID:e.1578.601
SEQUENCE:3
DTSTAMP:20260421T225525Z
URL:https://business.hopkinschamber.com/events/details/ribbon-cutting-coal-museum-09-08-2016-601
END:VEVENT

END:VCALENDAR
