BEGIN:VCALENDAR
VERSION:2.0
PRODID:-//ChamberMaster//Event Calendar 2.0//EN
METHOD:PUBLISH
X-PUBLISHED-TTL:P3D
REFRESH-INTERVAL:P3D
CALSCALE:GREGORIAN
BEGIN:VEVENT
DTSTART:20210805T123000Z
DTEND:20210805T130000Z
X-MICROSOFT-CDO-ALLDAYEVENT:FALSE
SUMMARY:Ribbon Cutting Campfire Roasters - The Roastery at Kentucky Movers and Makers
DESCRIPTION:Help us celebrate Campfire Roasters newest location "The Roastery" at Kentucky Movers and Makers\, 130 N. Seminary St.\, Madisonville\, KY.
X-ALT-DESC;FMTTYPE=text/html:Help us celebrate Campfire Roasters newest location &quot\;The Roastery&quot\; at Kentucky Movers and Makers\, 130 N. Seminary St.\, Madisonville\, KY.
LOCATION:The Roastery inside Kentucky Movers and Makers\, 130 N. Seminary St.\, Madisonville
UID:e.1578.5195
SEQUENCE:3
DTSTAMP:20260421T180354Z
URL:https://business.hopkinschamber.com/events/details/ribbon-cutting-campfire-roasters-the-roastery-at-kentucky-movers-and-makers-5195
END:VEVENT

END:VCALENDAR
