BEGIN:VCALENDAR
VERSION:2.0
PRODID:-//ChamberMaster//Event Calendar 2.0//EN
METHOD:PUBLISH
X-PUBLISHED-TTL:P3D
REFRESH-INTERVAL:P3D
CALSCALE:GREGORIAN
BEGIN:VEVENT
DTSTART:20220616T163000Z
DTEND:20220616T170000Z
X-MICROSOFT-CDO-ALLDAYEVENT:FALSE
SUMMARY:Ribbon Cutting- Calhoun's Custom Meats
DESCRIPTION:Join us for the ribbon-cutting ceremony for Calhoun's Custom Meats. They will be running specials and cooking lunch!
X-ALT-DESC;FMTTYPE=text/html:Join us for the ribbon-cutting ceremony for Calhoun&#39\;s Custom Meats. They will be running specials and cooking lunch!&nbsp\;
LOCATION:1005 Pride Ave. Madisonville KY 42431
UID:e.1578.5913
SEQUENCE:3
DTSTAMP:20260421T123659Z
URL:https://business.hopkinschamber.com/events/details/ribbon-cutting-calhoun-s-custom-meats-5913
END:VEVENT

END:VCALENDAR
