BEGIN:VCALENDAR
VERSION:2.0
PRODID:-//ChamberMaster//Event Calendar 2.0//EN
METHOD:PUBLISH
X-PUBLISHED-TTL:P3D
REFRESH-INTERVAL:P3D
CALSCALE:GREGORIAN
BEGIN:VEVENT
DTSTART:20220901T160000Z
DTEND:20220901T163000Z
X-MICROSOFT-CDO-ALLDAYEVENT:FALSE
SUMMARY:Ribbon Cutting - Blue Twenty-One
DESCRIPTION:Join us for the ribbon-cutting ceremony for Blue Twenty-One!
X-ALT-DESC;FMTTYPE=text/html:Join us for the ribbon-cutting ceremony for Blue Twenty-One!&nbsp\;
LOCATION:35 N. Main St. Madisonville KY 42431
UID:e.1578.5919
SEQUENCE:3
DTSTAMP:20260423T121338Z
URL:https://business.hopkinschamber.com/events/details/ribbon-cutting-blue-twenty-one-5919
END:VEVENT

END:VCALENDAR
