BEGIN:VCALENDAR
VERSION:2.0
PRODID:-//ChamberMaster//Event Calendar 2.0//EN
METHOD:PUBLISH
X-PUBLISHED-TTL:P3D
REFRESH-INTERVAL:P3D
CALSCALE:GREGORIAN
BEGIN:VEVENT
DTSTART:20131004T163000Z
DTEND:20131004T170000Z
X-MICROSOFT-CDO-ALLDAYEVENT:FALSE
SUMMARY:Ribbon Cutting - Big City Market & Coffee Bar
DESCRIPTION:Help us welcome Big City Market & Coffee Bar to downtown Madisonville!
X-ALT-DESC;FMTTYPE=text/html:Help us welcome Big City Market &amp\; Coffee Bar to downtown Madisonville!
LOCATION:23-25 Sugg Street\, Madisonville
UID:e.1578.176
SEQUENCE:3
DTSTAMP:20260423T234613Z
URL:https://business.hopkinschamber.com/events/details/ribbon-cutting-big-city-market-coffee-bar-10-04-2013-176
END:VEVENT

END:VCALENDAR
