BEGIN:VCALENDAR
VERSION:2.0
PRODID:-//ChamberMaster//Event Calendar 2.0//EN
METHOD:PUBLISH
X-PUBLISHED-TTL:P3D
REFRESH-INTERVAL:P3D
CALSCALE:GREGORIAN
BEGIN:VEVENT
DTSTART:20130318T213000Z
DTEND:20130318T220000Z
X-MICROSOFT-CDO-ALLDAYEVENT:FALSE
SUMMARY:Ribbon Cutting-Baptist Health Medical Associates Bldg
DESCRIPTION:Join us for a ribbon cutting to celebrate the completed renovation of the third floor of Baptist Health Madisonville's Medical Associates Building A and see the newly renovated cafeteria.
X-ALT-DESC;FMTTYPE=text/html:Join us for a ribbon cutting to celebrate the completed renovation of the third floor of Baptist Health Madisonville&#39\;s Medical Associates Building A and see the newly renovated cafeteria.
LOCATION:900 Hospital Drive\, Madisonville KY
UID:e.1578.39
SEQUENCE:3
DTSTAMP:20260424T085430Z
URL:https://business.hopkinschamber.com/events/details/ribbon-cutting-baptist-health-medical-associates-bldg-03-18-2013-39
END:VEVENT

END:VCALENDAR
