BEGIN:VCALENDAR
VERSION:2.0
PRODID:-//ChamberMaster//Event Calendar 2.0//EN
METHOD:PUBLISH
X-PUBLISHED-TTL:P3D
REFRESH-INTERVAL:P3D
CALSCALE:GREGORIAN
BEGIN:VEVENT
DTSTART:20121019T210000Z
DTEND:20121019T213000Z
X-MICROSOFT-CDO-ALLDAYEVENT:FALSE
SUMMARY:Ribbon cutting at Trover Center of Excellence
DESCRIPTION:Join Trover Health System as they celebrate the start of a new construction project - a 13\,000-square foot physician office space which will be the new home to General Surgery\, Ophthalmology\, ENT\, and Audiology. The remodel will also create new retail space for a hearing aid office and a new optical shop on the first floor.
X-ALT-DESC;FMTTYPE=text/html:Join Trover Health System as they celebrate the start of a new construction project - a 13\,000-square foot physician office space which will be the new home to General Surgery\, Ophthalmology\, ENT\, and Audiology. The remodel will also create new retail space for a hearing aid office and a new optical shop on the first floor.
LOCATION:Trover Health System Center of Excellence 800 Hospital Drive Madisonville\, KY 42431
UID:e.1578.4
SEQUENCE:3
DTSTAMP:20260424T153028Z
URL:https://business.hopkinschamber.com/events/details/ribbon-cutting-at-trover-center-of-excellence-10-19-2012-4
END:VEVENT

END:VCALENDAR
