BEGIN:VCALENDAR
VERSION:2.0
PRODID:-//ChamberMaster//Event Calendar 2.0//EN
METHOD:PUBLISH
X-PUBLISHED-TTL:P3D
REFRESH-INTERVAL:P3D
CALSCALE:GREGORIAN
BEGIN:VEVENT
DTSTART:20180212T163000Z
DTEND:20180212T170000Z
X-MICROSOFT-CDO-ALLDAYEVENT:FALSE
SUMMARY:Ribbon Cutting Andrea Nelson Shelter Insurance
DESCRIPTION:Ribbon Cutting at  Andrea Nelson Shelter Insurance
X-ALT-DESC;FMTTYPE=text/html:Ribbon Cutting at &nbsp\;Andrea Nelson Shelter Insurance
LOCATION:445 North Main Street Madisonville\, KY 42431
UID:e.1578.803
SEQUENCE:3
DTSTAMP:20260421T124343Z
URL:https://business.hopkinschamber.com/events/details/ribbon-cutting-andrea-nelson-shelter-insurance-803
END:VEVENT

END:VCALENDAR
