BEGIN:VCALENDAR
VERSION:2.0
PRODID:-//ChamberMaster//Event Calendar 2.0//EN
METHOD:PUBLISH
X-PUBLISHED-TTL:P3D
REFRESH-INTERVAL:P3D
CALSCALE:GREGORIAN
BEGIN:VEVENT
DTSTART:20130905T163000Z
DTEND:20130905T170000Z
X-MICROSOFT-CDO-ALLDAYEVENT:FALSE
SUMMARY:Ribbon Cutting - Amanda's on Main
DESCRIPTION:Help us welcome Amanda's on Main to their new location!
X-ALT-DESC;FMTTYPE=text/html:Help us welcome Amanda&#39\;s on Main to their new location!
LOCATION:28 Sugg St.\, Madisonville
UID:e.1578.82
SEQUENCE:3
DTSTAMP:20260422T164427Z
URL:https://business.hopkinschamber.com/events/details/ribbon-cutting-amanda-s-on-main-09-05-2013-82
END:VEVENT

END:VCALENDAR
