BEGIN:VCALENDAR
VERSION:2.0
PRODID:-//ChamberMaster//Event Calendar 2.0//EN
METHOD:PUBLISH
X-PUBLISHED-TTL:P3D
REFRESH-INTERVAL:P3D
CALSCALE:GREGORIAN
BEGIN:VEVENT
DTSTART:20191212T170000Z
DTEND:20191212T180000Z
X-MICROSOFT-CDO-ALLDAYEVENT:FALSE
SUMMARY:Ribbon Cutting - Allied Contracting Services
DESCRIPTION:Newly renovated offices and open house.  Enjoy lunch by Catering & Creations.
X-ALT-DESC;FMTTYPE=text/html:Newly renovated offices and open house.&nbsp\; Enjoy lunch by Catering &amp\; Creations.
LOCATION:648 S. Main Street Madisonville\, KY
UID:e.1578.3812
SEQUENCE:3
DTSTAMP:20260422T024038Z
URL:https://business.hopkinschamber.com/events/details/ribbon-cutting-allied-contracting-services-3812
END:VEVENT

END:VCALENDAR
