BEGIN:VCALENDAR
VERSION:2.0
PRODID:-//ChamberMaster//Event Calendar 2.0//EN
METHOD:PUBLISH
X-PUBLISHED-TTL:P3D
REFRESH-INTERVAL:P3D
CALSCALE:GREGORIAN
BEGIN:VEVENT
DTSTART:20130628T160000Z
DTEND:20130629T043000Z
X-MICROSOFT-CDO-ALLDAYEVENT:FALSE
SUMMARY:Ribbon Cutting @ All Occasions Formal Wear & More
DESCRIPTION:Join us as we welcome All Occasions Formal Wear & More to the Chamber and the local retail community!
X-ALT-DESC;FMTTYPE=text/html:Join us as we welcome All Occasions Formal Wear &amp\; More to the Chamber and the local retail community!
LOCATION:4 Sunset Road\, Hanson
UID:e.1578.59
SEQUENCE:3
DTSTAMP:20260424T050227Z
URL:https://business.hopkinschamber.com/events/details/ribbon-cutting-all-occasions-formal-wear-more-06-28-2013-59
END:VEVENT

END:VCALENDAR
