BEGIN:VCALENDAR
VERSION:2.0
PRODID:-//ChamberMaster//Event Calendar 2.0//EN
METHOD:PUBLISH
X-PUBLISHED-TTL:P3D
REFRESH-INTERVAL:P3D
CALSCALE:GREGORIAN
BEGIN:VEVENT
DTSTART:20151210T180000Z
DTEND:20151210T183000Z
X-MICROSOFT-CDO-ALLDAYEVENT:FALSE
SUMMARY:Ribbon Cutting - #9 Steakhouse
DESCRIPTION:Join us as we celebrate the reopening of #9 Steakhouse!
X-ALT-DESC;FMTTYPE=text/html:Join us as we celebrate the reopening of #9 Steakhouse!&nbsp\;
LOCATION:
UID:e.1578.560
SEQUENCE:3
DTSTAMP:20260422T112430Z
URL:https://business.hopkinschamber.com/events/details/ribbon-cutting-9-steakhouse-12-10-2015-560
END:VEVENT

END:VCALENDAR
