BEGIN:VCALENDAR
VERSION:2.0
PRODID:-//ChamberMaster//Event Calendar 2.0//EN
METHOD:PUBLISH
X-PUBLISHED-TTL:P3D
REFRESH-INTERVAL:P3D
CALSCALE:GREGORIAN
BEGIN:VEVENT
DTSTART:20130219T220000Z
DTEND:20130220T000000Z
X-MICROSOFT-CDO-ALLDAYEVENT:FALSE
SUMMARY:Reception for Harriett Whitaker
DESCRIPTION:Please join us at a reception honoring outgoing Chamber President Harriett Whitaker.
X-ALT-DESC;FMTTYPE=text/html:<p>\n	Please join us at a reception honoring outgoing Chamber President Harriett Whitaker.</p>\n
LOCATION:Madisonville-Hopkins County Chamber of Commerce 15 E. Center St. Madisonville\, KY 42431
UID:e.1578.33
SEQUENCE:3
DTSTAMP:20260424T101454Z
URL:https://business.hopkinschamber.com/events/details/reception-for-harriett-whitaker-02-19-2013-33
END:VEVENT

END:VCALENDAR
