BEGIN:VCALENDAR
VERSION:2.0
PRODID:-//ChamberMaster//Event Calendar 2.0//EN
METHOD:PUBLISH
X-PUBLISHED-TTL:P3D
REFRESH-INTERVAL:P3D
CALSCALE:GREGORIAN
BEGIN:VEVENT
DTSTART:20150723T163000Z
DTEND:20150723T170000Z
X-MICROSOFT-CDO-ALLDAYEVENT:FALSE
SUMMARY:R&D Electric Ribbon Cutting
DESCRIPTION:Ribbon Cutting
X-ALT-DESC;FMTTYPE=text/html:Ribbon Cutting
LOCATION:276 West Center Street
UID:e.1578.534
SEQUENCE:3
DTSTAMP:20260421T110634Z
URL:https://business.hopkinschamber.com/events/details/r-d-electric-ribbon-cutting-07-23-2015-534
END:VEVENT

END:VCALENDAR
