BEGIN:VCALENDAR
VERSION:2.0
PRODID:-//ChamberMaster//Event Calendar 2.0//EN
METHOD:PUBLISH
X-PUBLISHED-TTL:P3D
REFRESH-INTERVAL:P3D
CALSCALE:GREGORIAN
BEGIN:VEVENT
DTSTART;VALUE=DATE:20140401
DTEND;VALUE=DATE:20140424
TRANSP:TRANSPARENT
X-MICROSOFT-CDO-ALLDAYEVENT:TRUE
SUMMARY:Public Library 9th annual Silent Auction
DESCRIPTION:Bidding starts at 10 a.m. April 1 for the Hopkins County-Madisonville Public Library's 9th annual Silent Auction! Items up for bid include patio furniture\, water fountains\, books\, gift cards\, gift baskets\, and more. All proceeds benefit the Library.
X-ALT-DESC;FMTTYPE=text/html:Bidding starts at 10 a.m. April 1 for the Hopkins County-Madisonville Public Library&#39\;s 9th annual Silent Auction! Items up for bid include patio furniture\, water fountains\, books\, gift cards\, gift baskets\, and more. All proceeds benefit the Library.
LOCATION:Parkway Plaza Mall\, 455 Madison Square Drive\, Madisonville
UID:e.1578.427
SEQUENCE:3
DTSTAMP:20260422T064852Z
URL:https://business.hopkinschamber.com/events/details/public-library-9th-annual-silent-auction-04-01-2014-427
END:VEVENT

END:VCALENDAR
