BEGIN:VCALENDAR
VERSION:2.0
PRODID:-//ChamberMaster//Event Calendar 2.0//EN
METHOD:PUBLISH
X-PUBLISHED-TTL:P3D
REFRESH-INTERVAL:P3D
CALSCALE:GREGORIAN
BEGIN:VEVENT
DTSTART:20200328T150000Z
DTEND:20200328T200000Z
X-MICROSOFT-CDO-ALLDAYEVENT:FALSE
SUMMARY:Poppy & Clover @ Sugg on Main Shops
DESCRIPTION:Poppy & Clover will set up at Sugg on Main Shops
X-ALT-DESC;FMTTYPE=text/html:Poppy &amp\; Clover will set up at Sugg on Main Shops
LOCATION:Sugg on Main Shops 111 S Main Street
UID:e.1578.4116
SEQUENCE:3
DTSTAMP:20260421T225412Z
URL:https://business.hopkinschamber.com/events/details/poppy-clover-sugg-on-main-shops-4116
END:VEVENT

END:VCALENDAR
