BEGIN:VCALENDAR
VERSION:2.0
PRODID:-//ChamberMaster//Event Calendar 2.0//EN
METHOD:PUBLISH
X-PUBLISHED-TTL:P3D
REFRESH-INTERVAL:P3D
CALSCALE:GREGORIAN
BEGIN:VEVENT
DTSTART:20210913T170000Z
DTEND:20210913T180000Z
X-MICROSOFT-CDO-ALLDAYEVENT:FALSE
SUMMARY:PeADD Board of Directors Meeting
DESCRIPTION:Pennyrile Area Development District Board meeting.
X-ALT-DESC;FMTTYPE=text/html:&nbsp\;Pennyrile Area Development District Board meeting.&nbsp\;&nbsp\;
LOCATION:This meeting is at the PeADD office\, but there is a virtual option if you choose.
UID:e.1578.5260
SEQUENCE:3
DTSTAMP:20260424T085317Z
URL:https://business.hopkinschamber.com/events/details/peadd-board-of-directors-meeting-5260
END:VEVENT

END:VCALENDAR
