BEGIN:VCALENDAR
VERSION:2.0
PRODID:-//ChamberMaster//Event Calendar 2.0//EN
METHOD:PUBLISH
X-PUBLISHED-TTL:P3D
REFRESH-INTERVAL:P3D
CALSCALE:GREGORIAN
BEGIN:VEVENT
DTSTART:20210624T223000Z
DTEND:20210625T000000Z
X-MICROSOFT-CDO-ALLDAYEVENT:FALSE
SUMMARY:Owensboro Health Medical Group After Hours
DESCRIPTION:Join us at the Owensboro Health Medical Group - Health Plex for a Chamber After Hours.
X-ALT-DESC;FMTTYPE=text/html:Join us at the Owensboro Health Medical Group - Health Plex for a Chamber After Hours.
LOCATION:Owensboro Health Medical Group - Health Plex 510 Ruby Dr. Madisonville\, KY 42431
UID:e.1578.4757
SEQUENCE:3
DTSTAMP:20260421T180402Z
URL:https://business.hopkinschamber.com/events/details/owensboro-health-medical-group-after-hours-4757
END:VEVENT

END:VCALENDAR
