BEGIN:VCALENDAR
VERSION:2.0
PRODID:-//ChamberMaster//Event Calendar 2.0//EN
METHOD:PUBLISH
X-PUBLISHED-TTL:P3D
REFRESH-INTERVAL:P3D
CALSCALE:GREGORIAN
BEGIN:VEVENT
DTSTART:20131024T173000Z
DTEND:20131024T183000Z
X-MICROSOFT-CDO-ALLDAYEVENT:FALSE
SUMMARY:OSHA Top 10
DESCRIPTION:Mid-West KY SHRM invites you to attend a review of OSHA's 10 most commonly violated standards\, presented by Aaron Miller\, Technical Director of Industrial Compliance Services with Wilcox Environmental Engineering in Indianapolis IN. Aaron will discuss why these standards are often violated and share his experiences gained as an OSHA compliance officer and in private industry as an EHS Manager. During this review\, you will learn the requirements of the various standards and some tips to assist in ensuring employee safety and OSHA compliance.
X-ALT-DESC;FMTTYPE=text/html:Mid-West KY SHRM invites you to attend a review of OSHA&#39\;s 10 most commonly violated standards\, presented by Aaron Miller\, Technical Director of Industrial Compliance Services with Wilcox Environmental Engineering in Indianapolis IN. Aaron will discuss why these standards are often violated and share his experiences gained as an OSHA compliance officer and in private industry as an EHS Manager. During this review\, you will learn the requirements of the various standards and some tips to assist in ensuring employee safety and OSHA compliance.
LOCATION:Madisonville Technical & Economic Center
UID:e.1578.180
SEQUENCE:3
DTSTAMP:20260422T153614Z
URL:https://business.hopkinschamber.com/events/details/osha-top-10-10-24-2013-180
END:VEVENT

END:VCALENDAR
