BEGIN:VCALENDAR
VERSION:2.0
PRODID:-//ChamberMaster//Event Calendar 2.0//EN
METHOD:PUBLISH
X-PUBLISHED-TTL:P3D
REFRESH-INTERVAL:P3D
CALSCALE:GREGORIAN
BEGIN:VEVENT
DTSTART;VALUE=DATE:20191224
DTEND;VALUE=DATE:20191225
TRANSP:TRANSPARENT
X-MICROSOFT-CDO-ALLDAYEVENT:TRUE
SUMMARY:Office Closed - Christmas Eve
DESCRIPTION:Office Closed in Observance of Christmas Eve Holiday
X-ALT-DESC;FMTTYPE=text/html:Office Closed in Observance of Christmas Eve Holiday
LOCATION:
UID:e.1578.3814
SEQUENCE:3
DTSTAMP:20260422T023854Z
URL:https://business.hopkinschamber.com/events/details/office-closed-christmas-eve-3814
END:VEVENT

END:VCALENDAR
