BEGIN:VCALENDAR
VERSION:2.0
PRODID:-//ChamberMaster//Event Calendar 2.0//EN
METHOD:PUBLISH
X-PUBLISHED-TTL:P3D
REFRESH-INTERVAL:P3D
CALSCALE:GREGORIAN
BEGIN:VEVENT
DTSTART;VALUE=DATE:20121231
DTEND;VALUE=DATE:20130102
TRANSP:TRANSPARENT
X-MICROSOFT-CDO-ALLDAYEVENT:TRUE
SUMMARY:Office Closed
DESCRIPTION:The Chamber office will be closed on New Year's Eve and New Year's Day.
X-ALT-DESC;FMTTYPE=text/html:The Chamber office will be closed on New Year&#39\;s Eve and New Year&#39\;s Day.
LOCATION:
UID:e.1578.10
SEQUENCE:3
DTSTAMP:20260424T112956Z
URL:https://business.hopkinschamber.com/events/details/office-closed-12-31-2012-10
END:VEVENT

END:VCALENDAR
