BEGIN:VCALENDAR
VERSION:2.0
PRODID:-//ChamberMaster//Event Calendar 2.0//EN
METHOD:PUBLISH
X-PUBLISHED-TTL:P3D
REFRESH-INTERVAL:P3D
CALSCALE:GREGORIAN
BEGIN:VEVENT
DTSTART;VALUE=DATE:20121224
DTEND;VALUE=DATE:20121226
TRANSP:TRANSPARENT
X-MICROSOFT-CDO-ALLDAYEVENT:TRUE
SUMMARY:Office Closed
DESCRIPTION:The Chamber office will be closed on Christmas Eve and Christmas Day.
X-ALT-DESC;FMTTYPE=text/html:The Chamber office will be closed on Christmas Eve and Christmas Day.
LOCATION:
UID:e.1578.9
SEQUENCE:3
DTSTAMP:20260424T141107Z
URL:https://business.hopkinschamber.com/events/details/office-closed-12-24-2012-9
END:VEVENT

END:VCALENDAR
