BEGIN:VCALENDAR
VERSION:2.0
PRODID:-//ChamberMaster//Event Calendar 2.0//EN
METHOD:PUBLISH
X-PUBLISHED-TTL:P3D
REFRESH-INTERVAL:P3D
CALSCALE:GREGORIAN
BEGIN:VEVENT
DTSTART;VALUE=DATE:20121123
DTEND;VALUE=DATE:20121124
TRANSP:TRANSPARENT
X-MICROSOFT-CDO-ALLDAYEVENT:TRUE
SUMMARY:Office Closed
DESCRIPTION:The Chamber office will be closed on Thanksgiving Day and the day after Thanksgiving.
X-ALT-DESC;FMTTYPE=text/html:The Chamber office will be closed on&nbsp\;Thanksgiving Day&nbsp\;and the day after Thanksgiving.
LOCATION:
UID:e.1578.16
SEQUENCE:3
DTSTAMP:20260424T153106Z
URL:https://business.hopkinschamber.com/events/details/office-closed-11-23-2012-16
END:VEVENT

END:VCALENDAR
