BEGIN:VCALENDAR
VERSION:2.0
PRODID:-//ChamberMaster//Event Calendar 2.0//EN
METHOD:PUBLISH
X-PUBLISHED-TTL:P3D
REFRESH-INTERVAL:P3D
CALSCALE:GREGORIAN
BEGIN:VEVENT
DTSTART:20210706T000000Z
DTEND:20210706T010000Z
X-MICROSOFT-CDO-ALLDAYEVENT:FALSE
SUMMARY:Nortonville City Council Meeting
DESCRIPTION:
X-ALT-DESC;FMTTYPE=text/html:
LOCATION:
UID:e.1578.2722
SEQUENCE:3
DTSTAMP:20260421T180655Z
URL:https://business.hopkinschamber.com/events/details/nortonville-city-council-meeting-07-05-2021-2722
END:VEVENT

END:VCALENDAR
