BEGIN:VCALENDAR
VERSION:2.0
PRODID:-//ChamberMaster//Event Calendar 2.0//EN
METHOD:PUBLISH
X-PUBLISHED-TTL:P3D
REFRESH-INTERVAL:P3D
CALSCALE:GREGORIAN
BEGIN:VEVENT
DTSTART:20291001T230000Z
DTEND:20291002T000000Z
X-MICROSOFT-CDO-ALLDAYEVENT:FALSE
SUMMARY:Nebo City Commission Meeting
DESCRIPTION:
X-ALT-DESC;FMTTYPE=text/html:
LOCATION:Nebo City Hall
UID:e.1578.2575
SEQUENCE:3
DTSTAMP:20260421T163917Z
URL:https://business.hopkinschamber.com/events/details/nebo-city-commission-meeting-10-01-2029-2575
END:VEVENT

END:VCALENDAR
