BEGIN:VCALENDAR
VERSION:2.0
PRODID:-//ChamberMaster//Event Calendar 2.0//EN
METHOD:PUBLISH
X-PUBLISHED-TTL:P3D
REFRESH-INTERVAL:P3D
CALSCALE:GREGORIAN
BEGIN:VEVENT
DTSTART:20220214T160000Z
DTEND:20220214T200000Z
X-MICROSOFT-CDO-ALLDAYEVENT:FALSE
SUMMARY:MSU Transfer Day
DESCRIPTION:Join the Racer family today! Come meet our advisors and see why Murray State University is right for you! \n\nIf you can't make it in person\, sign up at murraystate.edu/racervip \n\nFor more information\, call 270-825-4379
X-ALT-DESC;FMTTYPE=text/html:Join the Racer family today! Come meet our advisors and see why Murray State University is right for you!&nbsp\;<br />\nIf you can&#39\;t make it in person\, sign up at murraystate.edu/racervip&nbsp\;<br />\nFor more information\, call 270-825-4379
LOCATION:MCC John H. Gray Student Center
UID:e.1578.5656
SEQUENCE:3
DTSTAMP:20260423T213656Z
URL:https://business.hopkinschamber.com/events/details/msu-transfer-day-5656
END:VEVENT

END:VCALENDAR
