BEGIN:VCALENDAR
VERSION:2.0
PRODID:-//ChamberMaster//Event Calendar 2.0//EN
METHOD:PUBLISH
X-PUBLISHED-TTL:P3D
REFRESH-INTERVAL:P3D
CALSCALE:GREGORIAN
BEGIN:VEVENT
DTSTART:20200107T010000Z
DTEND:20200107T020000Z
X-MICROSOFT-CDO-ALLDAYEVENT:FALSE
SUMMARY:Mortons Gap City Council Meeting
DESCRIPTION:
X-ALT-DESC;FMTTYPE=text/html:
LOCATION:Mortons Gap City Hall
UID:e.1578.2581
SEQUENCE:3
DTSTAMP:20260422T014313Z
URL:https://business.hopkinschamber.com/events/details/mortons-gap-city-council-meeting-01-06-2020-2581
END:VEVENT

END:VCALENDAR
