BEGIN:VCALENDAR
VERSION:2.0
PRODID:-//ChamberMaster//Event Calendar 2.0//EN
METHOD:PUBLISH
X-PUBLISHED-TTL:P3D
REFRESH-INTERVAL:P3D
CALSCALE:GREGORIAN
BEGIN:VEVENT
DTSTART:20140225T230000Z
DTEND:20140226T010000Z
X-MICROSOFT-CDO-ALLDAYEVENT:FALSE
SUMMARY:Minority Economic Development Council After Hours
DESCRIPTION:Join us for an After Hours hosted by the Minority Economic Development Council.
X-ALT-DESC;FMTTYPE=text/html:Join us for an After Hours hosted&nbsp\;by the Minority Economic Development Council.&nbsp\;&nbsp\;&nbsp\;&nbsp\;
LOCATION:Madisonville-Hopkins County Chamber of Commerce 15 E. Center St. Madisonville\, KY 42431
UID:e.1578.414
SEQUENCE:3
DTSTAMP:20260422T095356Z
URL:https://business.hopkinschamber.com/events/details/minority-economic-development-council-after-hours-02-25-2014-414
END:VEVENT

END:VCALENDAR
