BEGIN:VCALENDAR
VERSION:2.0
PRODID:-//ChamberMaster//Event Calendar 2.0//EN
METHOD:PUBLISH
X-PUBLISHED-TTL:P3D
REFRESH-INTERVAL:P3D
CALSCALE:GREGORIAN
BEGIN:VEVENT
DTSTART:20130912T130000Z
DTEND:20130912T170000Z
X-MICROSOFT-CDO-ALLDAYEVENT:FALSE
SUMMARY:Mid-West KY SHRM Leadership Seminar
DESCRIPTION:7:30 am - 8:00 am Registration Opens & Light Breakfast Served\n\n8:00 am - 9:15 am Managing Labor-Management Relationships Tammy L. Poole\, Commissioner Federal Mediation and Conciliation Service\n\n9:15 am - 10:30 am Patient Protection & Affordable Care Act Howard Blackburn\, Jr.\, MA\, SPHR\n\n10:30 am -10:45 am Break\n\n10:45 am - 12:00 pm Overview of Kentucky Workers Compensation Law Judge Mike W. Alvey\, Chairman Workers Compensation Board\n\n12:00 pm Lunch Served \n\n\n\nThis program is seeking approval for three general recertification credit hours toward PHR/SPHR/GPHR
X-ALT-DESC;FMTTYPE=text/html:7:30 am - 8:00 am Registration Opens &amp\; Light Breakfast Served<br />\n8:00 am&nbsp\;- 9:15 am Managing Labor-Management Relationships Tammy L. Poole\, Commissioner Federal Mediation and Conciliation Service<br />\n9:15 am&nbsp\;- 10:30 am Patient Protection &amp\; Affordable Care Act Howard Blackburn\, Jr.\, MA\, SPHR<br />\n10:30 am -10:45 am Break<br />\n10:45 am&nbsp\;- 12:00 pm Overview of Kentucky Workers Compensation Law Judge Mike W. Alvey\, Chairman Workers Compensation Board<br />\n12:00 pm Lunch Served&nbsp\;<br />\n<br />\nThis program is seeking approval for three general recertification credit hours toward PHR/SPHR/GPHR
LOCATION:Baptist Health Madisonville Medical Associates Building B\, 8th Floor\, 200 Clinic Drive\, Madisonville KY
UID:e.1578.89
SEQUENCE:3
DTSTAMP:20260422T164336Z
URL:https://business.hopkinschamber.com/events/details/mid-west-ky-shrm-leadership-seminar-09-12-2013-89
END:VEVENT

END:VCALENDAR
